BEGIN:VCALENDAR
VERSION:2.0
PRODID:-//CIREM 16/18 - ECPv6.15.20//NONSGML v1.0//EN
CALSCALE:GREGORIAN
METHOD:PUBLISH
X-WR-CALNAME:CIREM 16/18
X-ORIGINAL-URL:https://cirem.uqam.ca
X-WR-CALDESC:Évènements pour CIREM 16/18
REFRESH-INTERVAL;VALUE=DURATION:PT1H
X-Robots-Tag:noindex
X-PUBLISHED-TTL:PT1H
BEGIN:VTIMEZONE
TZID:America/Toronto
BEGIN:DAYLIGHT
TZOFFSETFROM:-0500
TZOFFSETTO:-0400
TZNAME:EDT
DTSTART:20220313T070000
END:DAYLIGHT
BEGIN:STANDARD
TZOFFSETFROM:-0400
TZOFFSETTO:-0500
TZNAME:EST
DTSTART:20221106T060000
END:STANDARD
BEGIN:DAYLIGHT
TZOFFSETFROM:-0500
TZOFFSETTO:-0400
TZNAME:EDT
DTSTART:20230312T070000
END:DAYLIGHT
BEGIN:STANDARD
TZOFFSETFROM:-0400
TZOFFSETTO:-0500
TZNAME:EST
DTSTART:20231105T060000
END:STANDARD
BEGIN:DAYLIGHT
TZOFFSETFROM:-0500
TZOFFSETTO:-0400
TZNAME:EDT
DTSTART:20240310T070000
END:DAYLIGHT
BEGIN:STANDARD
TZOFFSETFROM:-0400
TZOFFSETTO:-0500
TZNAME:EST
DTSTART:20241103T060000
END:STANDARD
BEGIN:DAYLIGHT
TZOFFSETFROM:-0500
TZOFFSETTO:-0400
TZNAME:EDT
DTSTART:20250309T070000
END:DAYLIGHT
BEGIN:STANDARD
TZOFFSETFROM:-0400
TZOFFSETTO:-0500
TZNAME:EST
DTSTART:20251102T060000
END:STANDARD
BEGIN:DAYLIGHT
TZOFFSETFROM:-0500
TZOFFSETTO:-0400
TZNAME:EDT
DTSTART:20260308T070000
END:DAYLIGHT
BEGIN:STANDARD
TZOFFSETFROM:-0400
TZOFFSETTO:-0500
TZNAME:EST
DTSTART:20261101T060000
END:STANDARD
END:VTIMEZONE
BEGIN:VEVENT
DTSTART;TZID=America/Toronto:20250416T173000
DTEND;TZID=America/Toronto:20250416T190000
DTSTAMP:20260425T123457
CREATED:20250331T180713Z
LAST-MODIFIED:20250331T181551Z
UID:10000082-1744824600-1744830000@cirem.uqam.ca
SUMMARY:Conférence « Une "stérile curiosité" ? Des Tahitiens en Europe (1769-1776) »
DESCRIPTION:Conférence « Une « stérile curiosité » ? Des Tahitiens en Europe (1769-1776) » par Antoine Lilti (Collège de France)\n—\nEn 1769\, de retour de son voyage autour du monde\, Bougainville amenait avec lui un jeune Tahitien\, Ahutoru\, qui passa un an à Paris. Cinq ans plus tard\, un autre Polynésien\, Mai\, vécut deux ans à Londres\, de 1774 à 1776\, avant d’être ramené dans le Pacifique par le capitaine Cook. Qui étaient ces personnages ? Étaient-ils des captifs\, des ambassadeurs ou des curieux ? Pourquoi avaient-ils décidé de s’embarquer ? Et comment furent-ils reçus par les publics parisien et londonien ?\nCette histoire croisée de deux voyageurs des antipodes découvrant l’Europe est révélatrice des ambivalences des Lumières à l’égard des peuples lointains. Ahutoru suscita une « curiosité stérile »\, selon Bougainville\, intense mais sans lendemain\, tandis que Mai devint une célébrité fugace\, dont témoigne aujourd’hui le célèbre portrait peint par Reynolds. L’un et l’autre troublèrent le public des Lumières : à la fois étranges et familiers\, ils n’étaient ni des « sauvages » ni des interlocuteurs « civilisés ». Leur visite fut\, sur le moment\, une occasion manquée\, mais elle produisit des effets importants dans la culture européenne. C’est ce malentendu productif\, cette « fable de Tahiti » (Diderot)\, qu’il s’agit de comprendre.\n—\nAntoine Lilti est professeur du Collège de France. Il occupe la chaire « Histoire des Lumières\, XVIIIe-XXIe siècle » depuis 2022. Il a publié Le monde des salons. Sociabilité et mondanité à Paris au XVIIIe siècle » (Fayard\, 2005)\, Figures publiques : l’invention de la célébrité (Fayard\, 2014)\, L’héritage des Lumières : Ambivalences de la modernité (EHESS/Seuil/Gallimard) et Actualité des Lumières : une histoire plurielle (Collège de France/Fayard\, 2023).\n—\nDans le cadre du séminaire 2 du GRHS\, « Reputation\, Celebrity\, and Popularity in the Public Space ».\n—\nDate : Mercredi 16 avril 2025Heure : 17h30 à 19hLieu : UQAM\, Département d’histoire de l’art\, salle facultaire\, R-4150
URL:https://cirem.uqam.ca/evenement/conference-une-sterile-curiosite-des-tahitiens-en-europe-1769-1776/
LOCATION:UQAM
CATEGORIES:Axe 2,Axe 3,Conférences
ATTACH;FMTTYPE=image/jpeg:https://cirem.uqam.ca/wp-content/uploads/2025/03/485159900_1263411985789891_2020966125488653879_n-e1743444399136.jpg
END:VEVENT
BEGIN:VEVENT
DTSTART;TZID=America/Toronto:20250416T093000
DTEND;TZID=America/Toronto:20250416T123000
DTSTAMP:20260425T123457
CREATED:20250331T181023Z
LAST-MODIFIED:20250331T181023Z
UID:10000083-1744795800-1744806600@cirem.uqam.ca
SUMMARY:Rencontre avec Charlotte Guichard (historienne de l'art\, ENS\, Paris)
DESCRIPTION:Lors de cette rencontre\, Charlotte Guichard parlera de son parcours académique et professionnel et recevra les questions préparées par les étudiant.e.s du séminaire autour de quatre de ses ouvrages :\nLes amateurs d’art à Paris au XVIIIe siècle\, Paris\, Champ Vallon\, 2008\nGraffitis : inscrire son nom à Rome : XVIe-XIXe siècle\, Paris\, Seuil\, 2014\nLa Griffe du peintre. La valeur de l’art (1730-1820)\, Seuil\, 2018\nColonial Watteau : Empire\, Commerce and Galanterie in Regency France\, Berlin\, Deutscher Kunstverlag\, 2022\n—\nCharlotte Guichard est professeure d’histoire de l’art à l’École normale supérieure (Paris). Elle est spécialiste de l’histoire des collections\, du patrimoine et du marché de l’art à l’âge moderne. Elle travaille sur les cultures visuelles et matérielles (images\, objets) du dix-huitième siècle dans une perspective transnationale et globale. Dans un dialogue avec les sciences sociales\, ses travaux interrogent la valeur de l’art dans sa dimension économique\, culturelle et symbolique. Elle a notamment publié : Les amateurs d’art à Paris au XVIIIe siècle(2008) ; Graffitis. Inscrire son nom à Rome\, XVIe-XIXe siècle (2014); La Griffe du peintre. La valeur de l’art (1730-1820) (2018); Colonial Watteau. Empire\, Commerce and Galanterie in Regency France (2022). Un livre est à paraître au Seuil\, avec Sophie Cras: Vendre son art. Le marché à l’œuvre de la Renaissance à nos jours (2025). Elle travaille actuellement sur les imaginaires coloniaux dans l’art français du XVIIe au XIXe siècle.\n—\nDans le cadre du cycle de conférences du RAA19 et du séminaire de maîtrise en histoire de l’art « HAR806D – Approches actuelles de l’art des XVIIIe et XIXe siècles » dirigé par Peggy Davis (UQAM).\nDate : 16 avril 2025Heure : 9h30 à 12h30Lieu : UQAM\, Département d’histoire de l’art\, local R-4240
URL:https://cirem.uqam.ca/evenement/rencontre-avec-charlotte-guichard-historienne-de-lart-ens-paris/
LOCATION:UQAM
CATEGORIES:Axe 1,Conférences
ATTACH;FMTTYPE=image/jpeg:https://cirem.uqam.ca/wp-content/uploads/2025/03/485154767_1263406159123807_7476458458588733354_n-e1743444607337.jpg
END:VEVENT
BEGIN:VEVENT
DTSTART;TZID=America/Toronto:20250415T173000
DTEND;TZID=America/Toronto:20250415T190000
DTSTAMP:20260425T123457
CREATED:20250331T181355Z
LAST-MODIFIED:20250331T181417Z
UID:10000084-1744738200-1744743600@cirem.uqam.ca
SUMMARY:Conférence « Empires de la galanterie. Les transformations de l'imaginaire colonial en France au XVIIIe siècle »
DESCRIPTION:Conférence « Empires de la galanterie. Les transformations de l’imaginaire colonial en France au XVIIIe siècle »\, par Charlotte Guichard (ENS\, Paris)\n—\nEn 1763\, une gravure est publiée à Paris pour promouvoir la colonisation française en Guyane. Représentant une terre riche en promesses et des couples engagés dans des conversations galantes\, l’image promeut une colonisation pacifique. Elle réactualise de manière éphémère une esthétique galante née sous le règne de Louis XIV et qui a contribué à structurer l’imaginaire de l’empire et des colonies françaises jusqu’aux années de la Régence. Comment cet imaginaire a-t-il pris forme autour de 1700 ? Cette conférence explorera la mode des voyages vers les îles d’amour depuis l’époque des Précieuses jusqu’aux fêtes galantes qui fascinaient les Modernes\, la montée du mythe galant couplé à un imaginaire maritime. Elle soutient que la galanterie en tant qu’idéal de civilisation et de commerce entre les sexes et les nations a contribué à façonner l’imaginaire impérial français et sa transformation en un trope irénique de la colonisation.\n—\nCharlotte Guichard est professeure d’histoire de l’art à l’École normale supérieure (Paris). Elle est spécialiste de l’histoire des collections\, du patrimoine et du marché de l’art à l’âge moderne. Elle travaille sur les cultures visuelles et matérielles (images\, objets) du dix-huitième siècle dans une perspective transnationale et globale. Dans un dialogue avec les sciences sociales\, ses travaux interrogent la valeur de l’art dans sa dimension économique\, culturelle et symbolique. Elle a notamment publié : Les amateurs d’art à Paris au XVIIIe siècle(2008) ; Graffitis. Inscrire son nom à Rome\, XVIe-XIXe siècle (2014); La Griffe du peintre. La valeur de l’art (1730-1820) (2018); Colonial Watteau. Empire\, Commerce and Galanterie in Regency France (2022). Un livre est à paraître au Seuil\, avec Sophie Cras: Vendre son art. Le marché à l’œuvre de la Renaissance à nos jours (2025). Elle travaille actuellement sur les imaginaires coloniaux dans l’art français du XVIIe au XIXe siècle.\n—\nUne présentation dans le cadre du cycle de conférences du RAA19\, en collaboration avec le GRHS.\nDate : 15 avril 2025Heure : 17h30 à 19hLieu : UQAM\, Département d’histoire de l’art\, local R-4150
URL:https://cirem.uqam.ca/evenement/conference-empires-de-la-galanterie-les-transformations-de-limaginaire-colonial-en-france-au-xviiie-siecle/
LOCATION:UQAM
CATEGORIES:Axe 1,Axe 3,Conférences
ATTACH;FMTTYPE=image/jpeg:https://cirem.uqam.ca/wp-content/uploads/2025/03/484879643_1263408809123542_5491802830733316961_n-e1743444812245.jpg
END:VEVENT
BEGIN:VEVENT
DTSTART;TZID=America/Toronto:20250411T123000
DTEND;TZID=America/Toronto:20250411T134500
DTSTAMP:20260425T123457
CREATED:20250331T180405Z
LAST-MODIFIED:20250331T180405Z
UID:10000081-1744374600-1744379100@cirem.uqam.ca
SUMMARY:Conférence « L'ailleurs coloré des fonds océaniens. Madrépores et polypiers des Mascareignes dans les collections françaises du XVIIIe siècle »
DESCRIPTION:Conférence « L’ailleurs coloré des fonds océaniens. Madrépores et polypiers des Mascareignes dans les collections françaises du XVIIIe siècle »\, par Charlotte Guichard (École normale supérieure\, Paris)\n—\nDans les ‘Entretiens sur les arbres\, les fleurs\, et les fruits’\, Jacques-Henri Bernardin de Saint-Pierre développait la fiction d’arbres animaux à partir de l’observation des végétaux et des madrépores qui peuplent les fonds de l’Océan Indien. Ce passage bien connu\, publié dans la première édition du Voyage à l’Isle de France\, nous invite à interroger la contribution des Indes orientales\, et en particulier de l’Océan Indien\, dans la production d’un ailleurs coloré\, teinté d’un imaginaire nouveau autour de la colonisation. Madrépores et polypiers viennent renouveler l’imaginaire classique du corail : présents dans les collections d’histoire naturelle en France\, ils sont décrits et reproduits dans des images savantes et certains tableaux. Tous produisent un imaginaire des fonds marins où l’étrangeté des formes et la beauté des couleurs viennent euphémiser expansion et colonisation.\n—\nCharlotte Guichard est professeure d’histoire de l’art à l’École normale supérieure (Paris). Elle est spécialiste de l’histoire des collections\, du patrimoine et du marché de l’art à l’âge moderne. Elle travaille sur les cultures visuelles et matérielles (images\, objets) du dix-huitième siècle dans une perspective transnationale et globale. Dans un dialogue avec les sciences sociales\, ses travaux interrogent la valeur de l’art dans sa dimension économique\, culturelle et symbolique. Elle a notamment publié : Les amateurs d’art à Paris au XVIIIe siècle (2008) ; Graffitis. Inscrire son nom à Rome\, XVIe-XIXe siècle (2014); La Griffe du peintre. La valeur de l’art (1730-1820) (2018); Colonial Watteau. Empire\, Commerce and Galanterie in Regency France (2022). Un livre est à paraître au Seuil\, avec Sophie Cras: Vendre son art. Le marché à l’œuvre de la Renaissance à nos jours (2025). Elle travaille actuellement sur les imaginaires coloniaux dans l’art français du XVIIe au XIXe siècle.\n\nDans le cadre du séminaire 3 du GRHS\, « Diffusion\, circulation et appropriation des savoirs ».\nDate : vendredi 11 avril 2025Heure : 12h30 à 13h45Lieu : UQAM\, Département d’histoire de l’art\, salle R-4215
URL:https://cirem.uqam.ca/evenement/conference-lailleurs-colore-des-fonds-oceaniens-madrepores-et-polypiers-des-mascareignes-dans-les-collections-francaises-du-xviiie-siecle/
LOCATION:UQAM
CATEGORIES:Axe 1,Axe 3,Conférences
ATTACH;FMTTYPE=image/jpeg:https://cirem.uqam.ca/wp-content/uploads/2025/03/485003820_1263402172457539_5660878342150635473_n-e1743444230601.jpg
END:VEVENT
BEGIN:VEVENT
DTSTART;VALUE=DATE:20231023
DTEND;VALUE=DATE:20231026
DTSTAMP:20260425T123457
CREATED:20230915T195314Z
LAST-MODIFIED:20230918T200554Z
UID:10000019-1698019200-1698278399@cirem.uqam.ca
SUMMARY:Colloque « Étudier la guerre. Perspectives historiographiques et épistémologiques de l’histoire de la guerre des années 1950 à nos jours »
DESCRIPTION:Colloque international du Groupe de Recherche en Histoire de la Guerre (GRHG)\, du 23 au 25 octobre 2023 à l’Université du Québec à Montréal.
URL:https://cirem.uqam.ca/evenement/colloque-etudier-la-guerre-perspectives-historiographiques-et-epistemologiques-de-lhistoire-de-la-guerre-des-annees-1950-a-nos-jours/
LOCATION:UQAM
CATEGORIES:Axe 2,Axe 4,Colloques et journées d'étude
ATTACH;FMTTYPE=image/png:https://cirem.uqam.ca/wp-content/uploads/2023/09/default-e1696446940706.png
ORGANIZER;CN="Benjamin Deruelle":MAILTO:etudierlaguerre@sciencesconf.org
END:VEVENT
BEGIN:VEVENT
DTSTART;TZID=America/Toronto:20231020T123000
DTEND;TZID=America/Toronto:20231020T134500
DTSTAMP:20260425T123457
CREATED:20231017T191358Z
LAST-MODIFIED:20231017T191515Z
UID:10000043-1697805000-1697809500@cirem.uqam.ca
SUMMARY:Conférence d’Alban Berson : «Dans les marges du monde : Analyse des ornements sur une carte géographique imprimée de 1532»
DESCRIPTION:Séance du séminaire «Diffusion\, circulation et appropriation des savoirs\, 16e-19e siècles» \nConférence d’Alban Berson\, cartothécaire à Bibliothèque et Archives nationales du Québec et membre du Comité consultatif canadien de la Mémoire du monde de l’UNESCO \nVendredi 20 octobre 2023\, 12:30 à 13:45 \nDépartement d’histoire de l’art de l’UQAM\, salle R-4215 et par zoom: https://uqam.zoom.us/j/89265629687 \nLégende de l’image : Anonyme\, Typus cosmographicus universalis\, Bâle\, 1532 (édition de 1537)\, Bibliothèque et Archives nationales du Québec
URL:https://cirem.uqam.ca/evenement/conference-dalban-berson-dans-les-marges-du-monde-analyse-des-ornements-sur-une-carte-geographique-imprimee-de-1532/
LOCATION:UQAM
CATEGORIES:Axe 1,Conférences
ATTACH;FMTTYPE=image/jpeg:https://cirem.uqam.ca/wp-content/uploads/2023/10/393674043_846522467478847_5576261130200694982_n-e1697570022984.jpg
END:VEVENT
END:VCALENDAR