BEGIN:VCALENDAR
VERSION:2.0
PRODID:-//CIREM 16/18 - ECPv6.15.20//NONSGML v1.0//EN
CALSCALE:GREGORIAN
METHOD:PUBLISH
X-WR-CALNAME:CIREM 16/18
X-ORIGINAL-URL:https://cirem.uqam.ca
X-WR-CALDESC:Évènements pour CIREM 16/18
REFRESH-INTERVAL;VALUE=DURATION:PT1H
X-Robots-Tag:noindex
X-PUBLISHED-TTL:PT1H
BEGIN:VTIMEZONE
TZID:America/Toronto
BEGIN:DAYLIGHT
TZOFFSETFROM:-0500
TZOFFSETTO:-0400
TZNAME:EDT
DTSTART:20230312T070000
END:DAYLIGHT
BEGIN:STANDARD
TZOFFSETFROM:-0400
TZOFFSETTO:-0500
TZNAME:EST
DTSTART:20231105T060000
END:STANDARD
BEGIN:DAYLIGHT
TZOFFSETFROM:-0500
TZOFFSETTO:-0400
TZNAME:EDT
DTSTART:20240310T070000
END:DAYLIGHT
BEGIN:STANDARD
TZOFFSETFROM:-0400
TZOFFSETTO:-0500
TZNAME:EST
DTSTART:20241103T060000
END:STANDARD
BEGIN:DAYLIGHT
TZOFFSETFROM:-0500
TZOFFSETTO:-0400
TZNAME:EDT
DTSTART:20250309T070000
END:DAYLIGHT
BEGIN:STANDARD
TZOFFSETFROM:-0400
TZOFFSETTO:-0500
TZNAME:EST
DTSTART:20251102T060000
END:STANDARD
END:VTIMEZONE
BEGIN:VEVENT
DTSTART;VALUE=DATE:20241004
DTEND;VALUE=DATE:20241006
DTSTAMP:20260419T112748
CREATED:20240112T220416Z
LAST-MODIFIED:20240112T220505Z
UID:10000053-1728000000-1728172799@cirem.uqam.ca
SUMMARY:Intimité et spiritualité dans l’imaginaire colonial
DESCRIPTION:Colloque bilingue et interdisciplinaire\, organisé conjointement par le Centre interuniversitaire de recherche sur la première modernité (CIREM 16/18) et le Centre for Privacy Studies (PRIVACY)\, 4-5 octobre 2024\, Pavillon de la culture des peuples autochtones de l’Université du Québec à Chicoutimi. \nDate limite de soumission des résumés : 21 juin 2024. \nConsultez l’appel à communications.
URL:https://cirem.uqam.ca/evenement/intimite-et-spiritualite-dans-limaginaire-colonial/
LOCATION:Université du Québec à Chicoutimi
CATEGORIES:Axe 3,Colloques et journées d'étude
ATTACH;FMTTYPE=image/png:https://cirem.uqam.ca/wp-content/uploads/2024/01/Marriage_of_Pocahontas-672x372-1-e1705097038814.png
END:VEVENT
BEGIN:VEVENT
DTSTART;TZID=America/Toronto:20240506T173000
DTEND;TZID=America/Toronto:20240506T200000
DTSTAMP:20260419T112749
CREATED:20240322T202629Z
LAST-MODIFIED:20240411T205129Z
UID:10000058-1715016600-1715025600@cirem.uqam.ca
SUMMARY:Conférence de Claude Corbo : « Une expérience intellectuelle riche : l’année de Rhétorique de Claude Corbo au collège Jean-de-Brébeuf (1961-1962) »
DESCRIPTION:Cet événement fait partie du projet Rhetorica. \nCette conférence sera suivie du vernissage de l’exposition La pratique pédagogique jésuite du XVIe siècle à aujourd’hui par Marc Umba di Mambuku (Bibliothèque de la Compagnie de Jésus)\, à 18h30. \nInscription gratuite : https://forms.gle/CJ69yr6qDQEHpyHA6
URL:https://cirem.uqam.ca/evenement/conference-de-claude-corbo-une-experience-intellectuelle-riche-l-annee-de-rhetorique-de-claude-corbo-au-college-jean-de-brebeuf/
LOCATION:Bibliothèque de la Compagnie de Jésus\, Collège Jean-de-Brébeuf\, local B4.25\, 3200\, chemin de la Côte-Ste-Catherine\, Montréal\, Quebec\, H3T 1C1\, Canada
CATEGORIES:Activités culturelles,Conférences,Rhetorica
ATTACH;FMTTYPE=image/jpeg:https://cirem.uqam.ca/wp-content/uploads/2024/03/Rhetorica_Affiche_Conf_Corbo_300dpi-scaled-e1712868509416.jpg
END:VEVENT
END:VCALENDAR