BEGIN:VCALENDAR
VERSION:2.0
PRODID:-//CIREM 16/18 - ECPv6.15.20//NONSGML v1.0//EN
CALSCALE:GREGORIAN
METHOD:PUBLISH
X-WR-CALNAME:CIREM 16/18
X-ORIGINAL-URL:https://cirem.uqam.ca
X-WR-CALDESC:Évènements pour CIREM 16/18
REFRESH-INTERVAL;VALUE=DURATION:PT1H
X-Robots-Tag:noindex
X-PUBLISHED-TTL:PT1H
BEGIN:VTIMEZONE
TZID:America/Toronto
BEGIN:DAYLIGHT
TZOFFSETFROM:-0500
TZOFFSETTO:-0400
TZNAME:EDT
DTSTART:20210314T070000
END:DAYLIGHT
BEGIN:STANDARD
TZOFFSETFROM:-0400
TZOFFSETTO:-0500
TZNAME:EST
DTSTART:20211107T060000
END:STANDARD
BEGIN:DAYLIGHT
TZOFFSETFROM:-0500
TZOFFSETTO:-0400
TZNAME:EDT
DTSTART:20220313T070000
END:DAYLIGHT
BEGIN:STANDARD
TZOFFSETFROM:-0400
TZOFFSETTO:-0500
TZNAME:EST
DTSTART:20221106T060000
END:STANDARD
BEGIN:DAYLIGHT
TZOFFSETFROM:-0500
TZOFFSETTO:-0400
TZNAME:EDT
DTSTART:20230312T070000
END:DAYLIGHT
BEGIN:STANDARD
TZOFFSETFROM:-0400
TZOFFSETTO:-0500
TZNAME:EST
DTSTART:20231105T060000
END:STANDARD
END:VTIMEZONE
BEGIN:VEVENT
DTSTART;VALUE=DATE:20221026
DTEND;VALUE=DATE:20221029
DTSTAMP:20260419T130539
CREATED:20230925T205721Z
LAST-MODIFIED:20230927T202053Z
UID:10000030-1666742400-1667001599@cirem.uqam.ca
SUMMARY:5e colloque international transversal du CIREM 16/18: Projets encyclopédiques et circulation des savoirs\, 1500-1750
DESCRIPTION:Le mot encyclopédie\, introduit par Rabelais en français et défini par Guillaume Budé comme « érudition circulaire » conformément à son étymologie grecque de « cercle des connaissances »\, place en son centre le savoir et autorise à penser le fondement même du projet encyclopédique de la première modernité par ce mouvement de circulation des savoirs\, opérations complexes de transformation\, d’adaptation\, de traduction\, de translation\, consubstantielles au déplacement d’un « lieu de savoir » à un autre. Le projet encyclopédique procède à une opération intense d’intertextualité mettant en œuvre une « circulation circulaire de l’information »\, alors que\, telle une « machine textuelle » vorace\, il copie\, plagie\, emprunte\, adapte\, absorbe\, intègre\, reprend des textes à d’autres ouvrages de référence ainsi qu’à une variété de textes anciens et contemporains. Ainsi\, à l’image du cercle\, le projet encyclopédique s’affirme en tant qu’unité et comme mouvement\, sans fin\, dans le déploiement des médiations et des transformations des contenus. \nL’Encyclopédie de Denis Diderot et Jean Le Rond d’Alembert\, considérée comme le paradigme du genre\, a beaucoup mobilisé les études critiques sur l’encyclopédisme\, c’est pourquoi ce colloque souhaite analyser le phénomène avant l’Encyclopédie et éviter le piège téléologique qui consiste à tout relier à l’anticipation de son avènement. Le colloque souhaite plutôt rendre compte de la variété et de la complexité de l’encyclopédisme avant la cristallisation du genre. En effet\, les projets encyclopédiques se sont multipliés depuis la Renaissance\, portés par l’humanisme\, l’accumulation et l’inflation des connaissances et par la technologie de l’imprimerie. Si l’encyclopédisme humaniste ne se matérialise pas par la réalisation d’une encyclopédie au sens moderne du terme avant 1630\, la notion s’impose dans la culture savante. Les projets encyclopédiques prennent des formes variées pour organiser l’abondance des savoirs\, signifier des principes d’ordonnancement et de classification\, assurer la circulation et transmission des savoirs. Les projets encyclopédiques se matérialisent certes par le livre comme l’a si bien analysé Ann Blair (2020) (dictionnaires spécialisés\, ouvrages de référence\, commentaires\, compendium\, listes\, catalogues\, etc.)\, mais aussi le transcendent par les métaphores et représentations totalisantes ordonnant et classifiant les savoirs ; il entretient des rapports de proximité avec les collections (images\, artefacts\, livres)\, la bibliothèque\, le musée\, les archives\, le récit de voyage\, etc.\, dès lors que l’entreprise aspire à la totalité\, à tout le moins à l’exhaustivité\, propose une vision synoptique du monde\, sinon d’un monde\, et met en œuvre un projet pédagogique de transmission des savoirs. \nCe colloque propose une rencontre des disciplines (histoire\, histoire de l’art\, histoire des sciences\, histoire du livre\, littérature\, philosophie) pour analyser les projets encyclopédiques de la première modernité dans ses formes matérielles et idéelles. \nAffiche \nProgramme
URL:https://cirem.uqam.ca/evenement/projets-encyclopediques-et-circulation-des-savoirs-1500-1750/
LOCATION:Archives nationales du Québec à Montréal
CATEGORIES:Axe 1,Axe 2,Axe 3,Axe 4,Colloques du CIREM 16-18
ATTACH;FMTTYPE=image/png:https://cirem.uqam.ca/wp-content/uploads/2023/09/Capture-decran-2023-09-25-165102-e1696446781806.png
END:VEVENT
END:VCALENDAR